BEGIN:VCALENDAR
VERSION:2.0
PRODID:-//Adventure Sports &amp; Entertainment LLC - ECPv6.15.20//NONSGML v1.0//EN
CALSCALE:GREGORIAN
METHOD:PUBLISH
X-WR-CALNAME:Adventure Sports &amp; Entertainment LLC
X-ORIGINAL-URL:https://adventuresportsandentertainment.com
X-WR-CALDESC:Events for Adventure Sports &amp; Entertainment LLC
REFRESH-INTERVAL;VALUE=DURATION:PT1H
X-Robots-Tag:noindex
X-PUBLISHED-TTL:PT1H
BEGIN:VTIMEZONE
TZID:America/New_York
BEGIN:DAYLIGHT
TZOFFSETFROM:-0500
TZOFFSETTO:-0400
TZNAME:EDT
DTSTART:20250309T070000
END:DAYLIGHT
BEGIN:STANDARD
TZOFFSETFROM:-0400
TZOFFSETTO:-0500
TZNAME:EST
DTSTART:20251102T060000
END:STANDARD
BEGIN:DAYLIGHT
TZOFFSETFROM:-0500
TZOFFSETTO:-0400
TZNAME:EDT
DTSTART:20260308T070000
END:DAYLIGHT
BEGIN:STANDARD
TZOFFSETFROM:-0400
TZOFFSETTO:-0500
TZNAME:EST
DTSTART:20261101T060000
END:STANDARD
BEGIN:DAYLIGHT
TZOFFSETFROM:-0500
TZOFFSETTO:-0400
TZNAME:EDT
DTSTART:20270314T070000
END:DAYLIGHT
BEGIN:STANDARD
TZOFFSETFROM:-0400
TZOFFSETTO:-0500
TZNAME:EST
DTSTART:20271107T060000
END:STANDARD
END:VTIMEZONE
BEGIN:VEVENT
DTSTART;VALUE=DATE:20260707
DTEND;VALUE=DATE:20260711
DTSTAMP:20260421T121600
CREATED:20251114T184803Z
LAST-MODIFIED:20251120T155509Z
UID:2327-1783382400-1783727999@adventuresportsandentertainment.com
SUMMARY:Alliance / NEFL Northeast Regional Championship
DESCRIPTION:To register: Registration Link\n  \n 
URL:https://adventuresportsandentertainment.com/event/alliance-nefl-northeast-regional-championship/
CATEGORIES:Softball
ATTACH;FMTTYPE=image/webp:https://adventuresportsandentertainment.com/wp-content/uploads/2025/11/garden-state-kickoff-2026-02-28-68f90c65f1664.webp
END:VEVENT
END:VCALENDAR