BEGIN:VCALENDAR
VERSION:2.0
PRODID:-//Adventure Sports &amp; Entertainment LLC - ECPv6.15.20//NONSGML v1.0//EN
CALSCALE:GREGORIAN
METHOD:PUBLISH
X-WR-CALNAME:Adventure Sports &amp; Entertainment LLC
X-ORIGINAL-URL:https://adventuresportsandentertainment.com
X-WR-CALDESC:Events for Adventure Sports &amp; Entertainment LLC
REFRESH-INTERVAL;VALUE=DURATION:PT1H
X-Robots-Tag:noindex
X-PUBLISHED-TTL:PT1H
BEGIN:VTIMEZONE
TZID:America/New_York
BEGIN:DAYLIGHT
TZOFFSETFROM:-0500
TZOFFSETTO:-0400
TZNAME:EDT
DTSTART:20250309T070000
END:DAYLIGHT
BEGIN:STANDARD
TZOFFSETFROM:-0400
TZOFFSETTO:-0500
TZNAME:EST
DTSTART:20251102T060000
END:STANDARD
BEGIN:DAYLIGHT
TZOFFSETFROM:-0500
TZOFFSETTO:-0400
TZNAME:EDT
DTSTART:20260308T070000
END:DAYLIGHT
BEGIN:STANDARD
TZOFFSETFROM:-0400
TZOFFSETTO:-0500
TZNAME:EST
DTSTART:20261101T060000
END:STANDARD
BEGIN:DAYLIGHT
TZOFFSETFROM:-0500
TZOFFSETTO:-0400
TZNAME:EDT
DTSTART:20270314T070000
END:DAYLIGHT
BEGIN:STANDARD
TZOFFSETFROM:-0400
TZOFFSETTO:-0500
TZNAME:EST
DTSTART:20271107T060000
END:STANDARD
END:VTIMEZONE
BEGIN:VEVENT
DTSTART;VALUE=DATE:20260703
DTEND;VALUE=DATE:20260706
DTSTAMP:20260421T103827
CREATED:20251114T184622Z
LAST-MODIFIED:20251124T130335Z
UID:2325-1783036800-1783295999@adventuresportsandentertainment.com
SUMMARY:USSSA Let Freedom Ring
DESCRIPTION:To register: Registration Link
URL:https://adventuresportsandentertainment.com/event/usssa-let-freedom-ring/
CATEGORIES:Softball
ATTACH;FMTTYPE=image/png:https://adventuresportsandentertainment.com/wp-content/uploads/2025/11/Let-Freedom-Ring-Softball.png
END:VEVENT
END:VCALENDAR