BEGIN:VCALENDAR
VERSION:2.0
PRODID:-//Adventure Sports &amp; Entertainment LLC - ECPv6.15.20//NONSGML v1.0//EN
CALSCALE:GREGORIAN
METHOD:PUBLISH
X-WR-CALNAME:Adventure Sports &amp; Entertainment LLC
X-ORIGINAL-URL:https://adventuresportsandentertainment.com
X-WR-CALDESC:Events for Adventure Sports &amp; Entertainment LLC
REFRESH-INTERVAL;VALUE=DURATION:PT1H
X-Robots-Tag:noindex
X-PUBLISHED-TTL:PT1H
BEGIN:VTIMEZONE
TZID:America/New_York
BEGIN:DAYLIGHT
TZOFFSETFROM:-0500
TZOFFSETTO:-0400
TZNAME:EDT
DTSTART:20250309T070000
END:DAYLIGHT
BEGIN:STANDARD
TZOFFSETFROM:-0400
TZOFFSETTO:-0500
TZNAME:EST
DTSTART:20251102T060000
END:STANDARD
BEGIN:DAYLIGHT
TZOFFSETFROM:-0500
TZOFFSETTO:-0400
TZNAME:EDT
DTSTART:20260308T070000
END:DAYLIGHT
BEGIN:STANDARD
TZOFFSETFROM:-0400
TZOFFSETTO:-0500
TZNAME:EST
DTSTART:20261101T060000
END:STANDARD
BEGIN:DAYLIGHT
TZOFFSETFROM:-0500
TZOFFSETTO:-0400
TZNAME:EDT
DTSTART:20270314T070000
END:DAYLIGHT
BEGIN:STANDARD
TZOFFSETFROM:-0400
TZOFFSETTO:-0500
TZNAME:EST
DTSTART:20271107T060000
END:STANDARD
END:VTIMEZONE
BEGIN:VEVENT
DTSTART;VALUE=DATE:20260606
DTEND;VALUE=DATE:20260608
DTSTAMP:20260421T085227
CREATED:20251114T180547Z
LAST-MODIFIED:20251120T155620Z
UID:2303-1780704000-1780876799@adventuresportsandentertainment.com
SUMMARY:Jersey Outlaws Summer Showcase
DESCRIPTION:To register: Registration Link
URL:https://adventuresportsandentertainment.com/event/jersey-outlaws-summer-showcase-2/
CATEGORIES:Softball
ATTACH;FMTTYPE=image/jpeg:https://adventuresportsandentertainment.com/wp-content/uploads/2025/11/Jersey_Outlaws_Summer_Showcase_-_26__1___1__large.jpg
END:VEVENT
BEGIN:VEVENT
DTSTART;VALUE=DATE:20260612
DTEND;VALUE=DATE:20260615
DTSTAMP:20260421T085227
CREATED:20251114T181136Z
LAST-MODIFIED:20251124T131957Z
UID:2308-1781222400-1781481599@adventuresportsandentertainment.com
SUMMARY:USSSA NJ 12u State Championship
DESCRIPTION:To register: Registration Link
URL:https://adventuresportsandentertainment.com/event/usssa-nj-12u-state-championship/
CATEGORIES:Softball
ATTACH;FMTTYPE=image/png:https://adventuresportsandentertainment.com/wp-content/uploads/2025/11/USSSA-12u-NJ-State-Championship-2026.png
END:VEVENT
BEGIN:VEVENT
DTSTART;VALUE=DATE:20260624
DTEND;VALUE=DATE:20260628
DTSTAMP:20260421T085227
CREATED:20251114T183341Z
LAST-MODIFIED:20251120T155602Z
UID:2317-1782259200-1782604799@adventuresportsandentertainment.com
SUMMARY:Team NJ Summer Classic
DESCRIPTION:To register: Registration Link
URL:https://adventuresportsandentertainment.com/event/team-nj-summer-classic-2/
CATEGORIES:Softball
ATTACH;FMTTYPE=image/png:https://adventuresportsandentertainment.com/wp-content/uploads/2025/11/teamnj-summer-classic-26.png
END:VEVENT
BEGIN:VEVENT
DTSTART;VALUE=DATE:20260630
DTEND;VALUE=DATE:20260703
DTSTAMP:20260421T085227
CREATED:20251114T183856Z
LAST-MODIFIED:20251120T155520Z
UID:2323-1782777600-1783036799@adventuresportsandentertainment.com
SUMMARY:Nightmare Fastpitch East Coast IDT
DESCRIPTION:To register: Registration Link
URL:https://adventuresportsandentertainment.com/event/nightmare-fastpitch-east-coast-idt/
CATEGORIES:Softball
ATTACH;FMTTYPE=image/webp:https://adventuresportsandentertainment.com/wp-content/uploads/2025/11/garden-state-kickoff-2026-02-28-68f90c65f1664.webp
END:VEVENT
END:VCALENDAR